BEGIN:VCALENDAR
VERSION:2.0
PRODID:-//Wonder Kids Kindergarten and Primary - ECPv6.15.20//NONSGML v1.0//EN
CALSCALE:GREGORIAN
METHOD:PUBLISH
X-ORIGINAL-URL:https://www.wonderkidschools.com
X-WR-CALDESC:Events for Wonder Kids Kindergarten and Primary
REFRESH-INTERVAL;VALUE=DURATION:PT1H
X-Robots-Tag:noindex
X-PUBLISHED-TTL:PT1H
BEGIN:VTIMEZONE
TZID:Africa/Kampala
BEGIN:STANDARD
TZOFFSETFROM:+0300
TZOFFSETTO:+0300
TZNAME:EAT
DTSTART:20180101T000000
END:STANDARD
END:VTIMEZONE
BEGIN:VEVENT
DTSTART;TZID=Africa/Kampala:20250425T080000
DTEND;TZID=Africa/Kampala:20250426T150000
DTSTAMP:20260423T220932
CREATED:20250425T055937Z
LAST-MODIFIED:20250622T135937Z
UID:1508-1745568000-1745679600@www.wonderkidschools.com
SUMMARY:End of Term Fruit Day
DESCRIPTION:To encourage healthy eating habits and strengthen children’s immunity\,  Wonder Kids will be organizing a special Fruit Day on 25th April  2025! This fun and educational event will help children learn about the importance of fruits in their daily diet. \nEach child will be invited to bring a fruit from home to share with the class. During the day\, students will explore different fruits\, learning about their colors\, textures\, and health benefits. They will also work together to prepare a fresh fruit salad\, followed by engaging activities such as fruit-themed songs\, games\, and art projects. \nFruit Day will be a joyful opportunity for our young learners to discover healthy habits in a hands-on\, memorable way! \nNote: Parents kindly attend. \nClick here to readmore about Fruits Day celebrations  \nRegards\, \nManagement
URL:https://www.wonderkidschools.com/event/end-of-term-fruit-day/
CATEGORIES:Parents & Teachers Activities,Party
ATTACH;FMTTYPE=image/jpeg:https://www.wonderkidschools.com/home/wp-content/uploads/2025/04/fruit_day_2025.jpeg
END:VEVENT
BEGIN:VEVENT
DTSTART;VALUE=DATE:20250203
DTEND;VALUE=DATE:20250204
DTSTAMP:20260423T220932
CREATED:20250122T114034Z
LAST-MODIFIED:20250122T114201Z
UID:1474-1738540800-1738627199@www.wonderkidschools.com
SUMMARY:Opening Term I 2025
DESCRIPTION:We are excited to announce the opening of Term One\, 2025 at Wonder Kids Day and Kindergarten! This marks the beginning of a new academic journey\, filled with opportunities for our young learners to play\, learn\, and grow. At Wonder Kids\, we believe in creating a nurturing environment where children can explore\, develop\, and build a strong foundation for the future. Let’s make this term a joyful experience as we embark on a path of discovery and fun. \nWelcome to Term One\, 2025! \nRegards Management
URL:https://www.wonderkidschools.com/event/opening-term-i-2025/
CATEGORIES:Parents & Teachers Activities
ATTACH;FMTTYPE=image/png:https://www.wonderkidschools.com/home/wp-content/uploads/2022/01/opening_term_WKS.png
END:VEVENT
BEGIN:VEVENT
DTSTART;VALUE=DATE:20241203
DTEND;VALUE=DATE:20250301
DTSTAMP:20260423T220932
CREATED:20250122T114623Z
LAST-MODIFIED:20250602T132238Z
UID:1476-1733184000-1740787199@www.wonderkidschools.com
SUMMARY:Admissions are now open for Term One 2025
DESCRIPTION:We are excited to invite you to enroll your child for Term One\, 2025 at Wonder Kids Day and Kindergarten! Our school provides a nurturing and playful environment where children can thrive as they play\, learn\, and grow. \nWe offer a dynamic curriculum designed to foster curiosity\, creativity\, and social development in the early years of education. \nJoin us for a year of fun-filled learning experiences that will lay a strong foundation for your child’s future. \nClick to Enroll Online
URL:https://www.wonderkidschools.com/event/admissions-are-now-open-for-term-one-2025/
CATEGORIES:Parents & Teachers Activities
ATTACH;FMTTYPE=image/jpeg:https://www.wonderkidschools.com/home/wp-content/uploads/2024/11/wks_grad.jpg
END:VEVENT
BEGIN:VEVENT
DTSTART;TZID=Africa/Kampala:20241124T090000
DTEND;TZID=Africa/Kampala:20241124T160000
DTSTAMP:20260423T220932
CREATED:20241118T085354Z
LAST-MODIFIED:20241121T133906Z
UID:1357-1732438800-1732464000@www.wonderkidschools.com
SUMMARY:Graduation & Talent Show 2024
DESCRIPTION:Our top-class graduation ceremony will be held on the school campus on 24th November 2024. The celebration will feature a talent show\, with performances from all classes. Ensure you arrive on time. \n 
URL:https://www.wonderkidschools.com/event/graduation-talent-show-2024/
CATEGORIES:Parents & Teachers Activities
END:VEVENT
BEGIN:VEVENT
DTSTART;TZID=Africa/Kampala:20230728T090000
DTEND;TZID=Africa/Kampala:20230728T130000
DTSTAMP:20260423T220932
CREATED:20230802T184833Z
LAST-MODIFIED:20230802T185242Z
UID:1242-1690534800-1690549200@www.wonderkidschools.com
SUMMARY:School Cultural Day Celebrations
DESCRIPTION:We had our school cultural day celebrations where we showcased the different cultures and tribes portrayed by our own children together with their parents. Activities ranged from modeling\, singing and dancing\, visual arts and crafts\, reciting poems\, among others.
URL:https://www.wonderkidschools.com/event/school-cultural-day-celebrations/
LOCATION:School Campus\, Kampala\, Uganda
CATEGORIES:Parents & Teachers Activities
ATTACH;FMTTYPE=image/jpeg:https://www.wonderkidschools.com/home/wp-content/uploads/2023/08/Cultural-Day-2023.jpeg
END:VEVENT
BEGIN:VEVENT
DTSTART;TZID=Africa/Kampala:20221111T080000
DTEND;TZID=Africa/Kampala:20221111T140000
DTSTAMP:20260423T220932
CREATED:20221111T085527Z
LAST-MODIFIED:20221111T092217Z
UID:1140-1668153600-1668175200@www.wonderkidschools.com
SUMMARY:2022 Top Class Graduation Ceremony
DESCRIPTION:Our 2022 top-class graduation ceremony will be held on 11/Nov/2022\, but due to the Ebola outbreak in the country and the Ministry of Education and Sports directive\, the function will be held without parents. It is sad but we had no way out.
URL:https://www.wonderkidschools.com/event/2022-top-class-graduation-ceremony/
CATEGORIES:Parents & Teachers Activities,Party
ATTACH;FMTTYPE=image/jpeg:https://www.wonderkidschools.com/home/wp-content/uploads/2021/04/grad_2022_002.jpeg
END:VEVENT
BEGIN:VEVENT
DTSTART;TZID=Africa/Kampala:20220110T070000
DTEND;TZID=Africa/Kampala:20220110T160000
DTSTAMP:20260423T220932
CREATED:20220109T205958Z
LAST-MODIFIED:20220109T210702Z
UID:1088-1641798000-1641830400@www.wonderkidschools.com
SUMMARY:Receiving Our Little Angels After Covid-19 Lockdown
DESCRIPTION:We will open for term one 2022 on 10th January 2022. We remind our parents to escort the learners to school such that they can talk to the class teachers.  \nParents are reminded to bright all the school requirements as stipulated in the circular.  \nYour sincerely  \nSarah Gwokyalya\nHead Teacher
URL:https://www.wonderkidschools.com/event/receiving-our-little-angels-after-covid-19-lockdown/
CATEGORIES:Parents & Teachers Activities
ATTACH;FMTTYPE=image/png:https://www.wonderkidschools.com/home/wp-content/uploads/2022/01/opening_term_WKS.png
END:VEVENT
BEGIN:VEVENT
DTSTART;TZID=Africa/Kampala:20191124T080000
DTEND;TZID=Africa/Kampala:20191124T160000
DTSTAMP:20260423T220932
CREATED:20191121T065334Z
LAST-MODIFIED:20191121T070032Z
UID:985-1574582400-1574611200@www.wonderkidschools.com
SUMMARY:School Launch and Child Presentation Day
DESCRIPTION:Dear Parent/Guardian/Well-wishers and the general public \nGreetings from Wonder Kids Kindergarten and day care. \nYou are kindly invited for a the school launch and child presentations day scheduled to take place on Tuesday 24th November 2019.  Come and witness what our little ones have learnt and what the school offers. \nThere will be a session for our new parents and children to interact with the teachers\, and site seeing. \nThank you. \nYours Faithfully\, \nManagement \nWonder Kids Kindergarten and Day Care
URL:https://www.wonderkidschools.com/event/school-launch-and-child-presentation-day/
CATEGORIES:Parents & Teachers Activities
ATTACH;FMTTYPE=image/jpeg:https://www.wonderkidschools.com/home/wp-content/uploads/2019/11/open_day_WKS.jpg
END:VEVENT
BEGIN:VEVENT
DTSTART;TZID=Africa/Kampala:20191008T090000
DTEND;TZID=Africa/Kampala:20191008T110000
DTSTAMP:20260423T220932
CREATED:20191003T075543Z
LAST-MODIFIED:20191003T081728Z
UID:954-1570525200-1570532400@www.wonderkidschools.com
SUMMARY:PARENT TEACHER MEETING
DESCRIPTION:Dear Parent/Guardian\, \nGreetings from Wonder Kids Kindergarten and day care. \nYou are kindly invited for a parents teachers meeting scheduled to take place on Tuesday 8th October 2019 at 9:00am. Our children will benefit greatly when each parent/ guardian takes an active role in his/her child’s education. I therefore call upon you dear parent/ guardian to respond positively. \nThank you. \nYours Faithfully\, \nManagement \nWonder Kids Kindergarten and Day Care
URL:https://www.wonderkidschools.com/event/parent-teacher-meeting/
CATEGORIES:Parents & Teachers Activities
ATTACH;FMTTYPE=image/jpeg:https://www.wonderkidschools.com/home/wp-content/uploads/2019/10/Parent-teachers-meeting.jpg
END:VEVENT
BEGIN:VEVENT
DTSTART;TZID=Africa/Kampala:20190715T080000
DTEND;TZID=Africa/Kampala:20190717T170000
DTSTAMP:20260423T220932
CREATED:20190717T080342Z
LAST-MODIFIED:20190717T081528Z
UID:902-1563177600-1563382800@www.wonderkidschools.com
SUMMARY:Book Week
DESCRIPTION:These Children’s Book Week activities will help foster a love of reading that could last a lifetime. Wonder Kids grantees that the children’s book week activities will be make reading super fun for our little ones! Below are the are the children’s book week activities:- \n\nEach child will read at least one  Book\nThey will Craft Up Some Bookmarks\nHost a Book Tasting Party\nAttend a Book Signing Event\nStart a Family Book Club\nVote for the Children’s  Choice Book Awards
URL:https://www.wonderkidschools.com/event/book-week/
LOCATION:School Campus\, Kampala\, Uganda
CATEGORIES:Parents & Teachers Activities
ATTACH;FMTTYPE=image/jpeg:https://www.wonderkidschools.com/home/wp-content/uploads/2019/07/book-week_wkkd.jpg
END:VEVENT
BEGIN:VEVENT
DTSTART;TZID=Africa/Kampala:20190319T090000
DTEND;TZID=Africa/Kampala:20190319T230000
DTSTAMP:20260423T220932
CREATED:20190318T060632Z
LAST-MODIFIED:20190318T063801Z
UID:857-1552986000-1553036400@www.wonderkidschools.com
SUMMARY:Career Day
DESCRIPTION:This is a must attend event for all parents with children in Baby\, Middle and Top class.  It is a special day which involves a lot of activities ranging from :-  Parents and Teachers meeting\, Parents engagement one to one with the teacher’s and discuss the strength and weakness of their child and devise ways of improving the child’s behaviour and performance\, Parents share with the teachers the challenging which the child face at home\, teachers share with parents the weaknesses they have detected in the child. \nIn additional children will demonstrate what they do and have learned to the parents and the community. \nIt should be noted that all this sharing is private been the teacher\, child and the parents. \n 
URL:https://www.wonderkidschools.com/event/careers-day/
LOCATION:School Campus\, Kampala\, Uganda
CATEGORIES:Parents & Teachers Activities
ATTACH;FMTTYPE=image/jpeg:https://www.wonderkidschools.com/home/wp-content/uploads/2019/01/WK_abt_us_001.jpg
END:VEVENT
END:VCALENDAR