BEGIN:VCALENDAR
VERSION:2.0
PRODID:-//Wonder Kids Kindergarten and Primary - ECPv6.15.20//NONSGML v1.0//EN
CALSCALE:GREGORIAN
METHOD:PUBLISH
X-WR-CALNAME:Wonder Kids Kindergarten and Primary
X-ORIGINAL-URL:https://www.wonderkidschools.com
X-WR-CALDESC:Events for Wonder Kids Kindergarten and Primary
REFRESH-INTERVAL;VALUE=DURATION:PT1H
X-Robots-Tag:noindex
X-PUBLISHED-TTL:PT1H
BEGIN:VTIMEZONE
TZID:Africa/Kampala
BEGIN:STANDARD
TZOFFSETFROM:+0300
TZOFFSETTO:+0300
TZNAME:EAT
DTSTART:20210101T000000
END:STANDARD
END:VTIMEZONE
BEGIN:VEVENT
DTSTART;TZID=Africa/Kampala:20250805T000000
DTEND;TZID=Africa/Kampala:20250805T000000
DTSTAMP:20260424T000502
CREATED:20250807T055002Z
LAST-MODIFIED:20250807T071438Z
UID:1673-1754352000-1754352000@www.wonderkidschools.com
SUMMARY:Study Tour 2025
DESCRIPTION:Wonder Kids Study Tour: A Day of Exploration and Learning \nAs part of our continuous effort to provide enriching educational experiences beyond the classroom\, Wonder Kids recently organized a vibrant and insightful Study Tour for our leaners. This carefully planned excursion offered young learners the opportunity to explore diverse environments\, broaden their cultural understanding\, and enjoy a day filled with learning\, fun\, and friendship. \nThe tour began with visits to two places of worship a mosque and a church where students were given the chance to learn about different religious traditions and values. These visits encouraged mutual respect\, tolerance\, and a deeper appreciation for cultural diversity. Our students engaged attentively\, asked thoughtful questions\, and reflected on the importance of unity in diversity. \nFollowing this\, the group explored a botanical garden\, where children discovered various plant species\, learned about the importance of nature conservation\, and participated in guided activities focused on environmental awareness. Surrounded by greenery\, students were inspired by the beauty and calmness of nature. \nThe next stop was a local farm\, which offered a hands-on learning experience about animals\, crops\, and sustainable farming practices. Students had the chance to interact with farm animals and observe how food is grown and harvested\, fostering a greater connection to the natural world and an understanding of the journey from farm to table. \nTo conclude the day\, the group gathered for a delightful picnic\, where students enjoyed their meals in a joyful and relaxed outdoor setting. It was a perfect moment to unwind\, play\, and strengthen friendships after a day full of discovery. \nThe Wonder Kids Study Tour was not only educational but also deeply meaningful\, fostering curiosity\, empathy\, and environmental responsibility in our kids. We look forward to many more such experiences that spark young minds and nurture well-rounded individuals
URL:https://www.wonderkidschools.com/event/study-tour-2025/
CATEGORIES:Tours
ATTACH;FMTTYPE=image/jpeg:https://www.wonderkidschools.com/home/wp-content/uploads/2025/08/Farm.jpeg
END:VEVENT
BEGIN:VEVENT
DTSTART;TZID=Africa/Kampala:20220805T080000
DTEND;TZID=Africa/Kampala:20220805T140000
DTSTAMP:20260424T000502
CREATED:20190802T045031Z
LAST-MODIFIED:20220711T081713Z
UID:912-1659686400-1659708000@www.wonderkidschools.com
SUMMARY:Visit to Entebbe Wildlife Sanctuary
DESCRIPTION:We will take our Baby\, Middle\, Top\, and Primary One class children to  Entebbe Wildlife Sanctuary. This tour will help them relate what they learn in class to real-life experiences.  Our parents are advised to pay in time such that their child does not miss out on this opportunity.
URL:https://www.wonderkidschools.com/event/visit-to-entebbe-wildlife-sanctuary/
LOCATION:Entebbe Wildlife Sanctuary\, 57 Lugard Ave\, Entebbe\, Uganda
CATEGORIES:Tours
ATTACH;FMTTYPE=image/jpeg:https://www.wonderkidschools.com/home/wp-content/uploads/2019/08/Entebbe-UWEC-Zoo-1.jpg
END:VEVENT
END:VCALENDAR