BEGIN:VCALENDAR
VERSION:2.0
PRODID:-//Wonder Kids Kindergarten and Primary - ECPv6.15.20//NONSGML v1.0//EN
CALSCALE:GREGORIAN
METHOD:PUBLISH
X-WR-CALNAME:Wonder Kids Kindergarten and Primary
X-ORIGINAL-URL:https://www.wonderkidschools.com
X-WR-CALDESC:Events for Wonder Kids Kindergarten and Primary
REFRESH-INTERVAL;VALUE=DURATION:PT1H
X-Robots-Tag:noindex
X-PUBLISHED-TTL:PT1H
BEGIN:VTIMEZONE
TZID:Africa/Kampala
BEGIN:STANDARD
TZOFFSETFROM:+0300
TZOFFSETTO:+0300
TZNAME:EAT
DTSTART:20250101T000000
END:STANDARD
END:VTIMEZONE
BEGIN:VEVENT
DTSTART;TZID=Africa/Kampala:20260406T080000
DTEND;TZID=Africa/Kampala:20260410T170000
DTSTAMP:20260424T010846
CREATED:20260408T213500Z
LAST-MODIFIED:20260408T213607Z
UID:1830-1775462400-1775840400@www.wonderkidschools.com
SUMMARY:Pupils Leaders
DESCRIPTION:We are excited to announce that Wonder Kids Kindergarten and Primary School will hold elections for our pupil leaders on 09/04/2026. This is an important opportunity for our pupils to learn leadership\, responsibility\, and teamwork. \nWe kindly request all parents to support and guide their children as they participate in this exciting event. Let’s work together to help our pupils grow into confident and responsible leaders!
URL:https://www.wonderkidschools.com/event/pupils-leaders/
LOCATION:School Campus\, Kampala\, Uganda
ATTACH;FMTTYPE=image/jpeg:https://www.wonderkidschools.com/home/wp-content/uploads/2026/04/wks_elections2026.jpeg
END:VEVENT
END:VCALENDAR