BEGIN:VCALENDAR
VERSION:2.0
PRODID:-//Wonder Kids Kindergarten and Primary - ECPv6.15.20//NONSGML v1.0//EN
CALSCALE:GREGORIAN
METHOD:PUBLISH
X-ORIGINAL-URL:https://www.wonderkidschools.com
X-WR-CALDESC:Events for Wonder Kids Kindergarten and Primary
REFRESH-INTERVAL;VALUE=DURATION:PT1H
X-Robots-Tag:noindex
X-PUBLISHED-TTL:PT1H
BEGIN:VTIMEZONE
TZID:Africa/Kampala
BEGIN:STANDARD
TZOFFSETFROM:+0300
TZOFFSETTO:+0300
TZNAME:EAT
DTSTART:20230101T000000
END:STANDARD
END:VTIMEZONE
BEGIN:VEVENT
DTSTART;VALUE=DATE:20241203
DTEND;VALUE=DATE:20250301
DTSTAMP:20260424T131808
CREATED:20250122T114623Z
LAST-MODIFIED:20250602T132238Z
UID:1476-1733184000-1740787199@www.wonderkidschools.com
SUMMARY:Admissions are now open for Term One 2025
DESCRIPTION:We are excited to invite you to enroll your child for Term One\, 2025 at Wonder Kids Day and Kindergarten! Our school provides a nurturing and playful environment where children can thrive as they play\, learn\, and grow. \nWe offer a dynamic curriculum designed to foster curiosity\, creativity\, and social development in the early years of education. \nJoin us for a year of fun-filled learning experiences that will lay a strong foundation for your child’s future. \nClick to Enroll Online
URL:https://www.wonderkidschools.com/event/admissions-are-now-open-for-term-one-2025/
CATEGORIES:Parents & Teachers Activities
ATTACH;FMTTYPE=image/jpeg:https://www.wonderkidschools.com/home/wp-content/uploads/2024/11/wks_grad.jpg
END:VEVENT
BEGIN:VEVENT
DTSTART;VALUE=DATE:20250203
DTEND;VALUE=DATE:20250204
DTSTAMP:20260424T131808
CREATED:20250122T114034Z
LAST-MODIFIED:20250122T114201Z
UID:1474-1738540800-1738627199@www.wonderkidschools.com
SUMMARY:Opening Term I 2025
DESCRIPTION:We are excited to announce the opening of Term One\, 2025 at Wonder Kids Day and Kindergarten! This marks the beginning of a new academic journey\, filled with opportunities for our young learners to play\, learn\, and grow. At Wonder Kids\, we believe in creating a nurturing environment where children can explore\, develop\, and build a strong foundation for the future. Let’s make this term a joyful experience as we embark on a path of discovery and fun. \nWelcome to Term One\, 2025! \nRegards Management
URL:https://www.wonderkidschools.com/event/opening-term-i-2025/
CATEGORIES:Parents & Teachers Activities
ATTACH;FMTTYPE=image/png:https://www.wonderkidschools.com/home/wp-content/uploads/2022/01/opening_term_WKS.png
END:VEVENT
END:VCALENDAR