BEGIN:VCALENDAR
VERSION:2.0
PRODID:-//Wonder Kids Kindergarten and Primary - ECPv6.15.20//NONSGML v1.0//EN
CALSCALE:GREGORIAN
METHOD:PUBLISH
X-ORIGINAL-URL:https://www.wonderkidschools.com
X-WR-CALDESC:Events for Wonder Kids Kindergarten and Primary
REFRESH-INTERVAL;VALUE=DURATION:PT1H
X-Robots-Tag:noindex
X-PUBLISHED-TTL:PT1H
BEGIN:VTIMEZONE
TZID:Africa/Kampala
BEGIN:STANDARD
TZOFFSETFROM:+0300
TZOFFSETTO:+0300
TZNAME:EAT
DTSTART:20250101T000000
END:STANDARD
END:VTIMEZONE
BEGIN:VEVENT
DTSTART;TZID=Africa/Kampala:20260206T080000
DTEND;TZID=Africa/Kampala:20260210T170000
DTSTAMP:20260423T205058
CREATED:20260206T082510Z
LAST-MODIFIED:20260206T082656Z
UID:1797-1770364800-1770742800@www.wonderkidschools.com
SUMMARY:We’re Excited to Welcome You!
DESCRIPTION:Wonder Kids Kindergarten and Primary School is opening its doors on 10th February 2026\, and we can’t wait to welcome our little learners and their families! \nOur school is a place where curiosity is encouraged\, creativity is nurtured\, and every child can grow into a confident\, well-rounded individual. From interactive classroom learning to enriching extra-curricular activities i.e. like ballet\, sports\, art\, and hands-on field trips. Our programs are designed to make every day a joyful learning adventure. \nJoin us on this exciting journey as we open a world of exploration\, fun\, and discovery for children in kindergarten and primary school. Our dedicated team of educators is ready to inspire young minds and create a safe\, supportive\, and stimulating environment for all our learners. \nCome be part of the Wonder Kids family\, where learning is fun\, imagination is limitless\, and every child shines! 🌟
URL:https://www.wonderkidschools.com/event/were-excited-to-welcome-you/
ATTACH;FMTTYPE=image/png:https://www.wonderkidschools.com/home/wp-content/uploads/2022/01/opening_term_WKS.png
END:VEVENT
END:VCALENDAR